Workbook
Name Inhaltliche_Hilfe: #REF!
Name Kopf__und_Fußzeile_bearbeiten: #REF!
Name TabkonfigAn: Startseite!$H$25
Name Technische_Hilfe: #REF!
Name Zeilen__und_Spaltenbeschriftung_ein_aus: #REF!
Name Zoom: #REF!

Sheet Startseite
B2: Erfahrungskurvenrechner | K2: #VALUE!
C4: © Haufe, Maya Hasenöhrl /Rudolf Grünbichler/ Nora Horvath-Pilna
C10: Anleitung
C11: Deckblatt
C12: Benutzerhinweise Rechner
C13: Rechner
C14: Abweichungsanalyse
C15: Empfehlungen
H25: Tabelle einfügen / Startseite konfigurieren

Sheet Anleitung

Sheet Deckblatt
B13: Erfahrungskurvenrechner
B15: Analyse, Visuallierung und Stückkostenprognose
B20: Firmenname
B22: Straße
B24: Postleitzahl und Ort
B26: Land
B28: Berechnet am
B30: Berechnet für das Produkt
A50: Version 1.0 | J50: CC BY-NC 4.0
J51: Hasenöhrl, M. /Gruenbichler, R./ Horvath-Pilnay, N. (2026): Erfahrungskurvenrechner

Sheet Benutzerhinweise
B4: Benutzerhinweise
B7: Dieses Instrument wurde speziell für kleine Unternehmen entwickelt, um die Effekte der Erfahrungskurve verständlich zu analysieren und für Prognosezwecke nutzbar zu machen. Nachfolgend werden die Funktionsweise des Instruments, die Auswertungen sowie weiterführende Hinweise und Handlungsempfehlungen erläutert.
B13: Erläuterungen zur Nutzung des Rechner-Tabellenblatts
B17: Das Tabellenblatt ist in zwei Bereiche unterteilt:
B18: - | C18: Teil 1 : Datenerfassung
B19: - | C19: Teil 2 : Auswertung
B21: Teil 1 : Datenerfassung
C23: In diesem Bereich werden die Daten zur Berechnung der Erfahrungskurve erfasst.
D25: Zunächst ist bei der Berechnungsmethode (s. unten unter Berechnungsoptionen) auszuwählen, ob die Stückkosten von
D26: mehreren Produktionsmengen vorhanden sind oder die Kostenprognose auf Basis einer Einschätzung der Erfahrungsrate erfolgen soll.
D28: Anschließend sind die hellblau hinterlegten Zellen mit den Untenehmensdaten zu befüllen.
D29: Wird die Erfahrungsrate geschätzt, ist eine Annahme über die Ausprägung des jeweiligen Effekts zu treffen.
C31: Pflichtangaben
C33: Marktpreis (netto)
D34: Aktueller Marktpreis des Produkts pro Stück.
D35: Einheit: Euro pro Stück
C37: Geplanter Jahresabsatz
D38: Geplante Verkaufsmenge des Produkts pro Jahr.
D39: Einheit: Stück
C41: Stückkosten bei einer Produktionsmenge von einem Stück
D42: Datenpaar: Stückkosten sowie kumulierte Produktionsmenge
D43: Einheit: Euro pro Stück
C45: Berechnungsoptionen
C47: Sie können mittels Dropdown aus zwei Methodiken zur Berechnung der Erfahrungsrate wählen.
C49: Option 1: Berechnung über Stückkosten
C51: Es sind die Stückkosten für zwei unterschiedliche Produktionsmengen bekannt.
C53: Datenpaar 1: Stückkosten bei 1 Stück Produktion | I53: Einheit: Euro pro Stück
C54: Datenpaar 2: Stückkosten bei xx Stück Produktion | I54: Einheit: Euro pro Stück
C56: Option 2: Berechnung über eine geschätzte Erfahrungskurve
C58: Es sind die Kosten des ersten Stücks bekannt, die Stückkosten für weitere Mengen jedoch unbekant.
C59: - Bitte tragen Sie die Werte ausschließlich in die hervorgehobenen Eingabefelder ein. Beispielwerte in hellblauer Farbe | D59: Abschätzung der Erfahrungsrate
C61: Maximale Erfahrungsrate
D62: Schätzung der maximal erreichbaren Erfahrungsrate im Unternehmen.
C64: Mögliche Richtwerte:
C65: Kleines Unternehemen: ca 10%
C66: Mittleres Unternehemen: ca 20% | I66: Maßeinheit: Prozent
C67: Großes Unternehemen: ca 30%
C70: Zusätzlich bewerten Sie die fünf zentralen Erfahrungskurveneffekte selbst auf einer Skala von „nicht vorhanden“ bis „sehr hoch“.
C72: Bewertungsskala
C73: nicht vorhanden – Der Effekt ist im Unternehmen nicht beobachtbar. | D73: Nicht vorhanden – Es ist kein relevanter Effekt zu erwarten.
...

Sheet Rechner
B4: Datenerfassung
B7: Berechnungsmethode: | D7: über Stückkosten
D9: Stück | E9: Stückkosten | G9: Erwartete Erfahrungsrate: | H9: 20
C10: 1. Datenpaar | D10: 1 | E10: 0 | N10: anteil
C11: 2. Datenpaar | D11: 0 | E11: 0 | F11: =ISBLANK(E11) -> FALSE | H11: n. vorhanden | I11: sehr niedrig | J11: niedrig | K11: neutral | L11: hoch | M11: sehr hoch | N11: =H9/25 -> 0.8
G12: Lernkurveneffekt | N12: 1 | O12: =((N12-1)*$N$11)/100 -> 0
C13: Marktpreis | D13: 1 | E13: 0 | G13: Rationalisierungseffekt | N13: 1 | O13: =((N13-1)*$N$11)/100 -> 0
C14: Geplanter Jahresabsatz | E14: 0 | G14: Fixkostendegression | N14: 1 | O14: =((N14-1)*$N$11)/100 -> 0
G15: Technischer Fortschritt | N15: 1 | O15: =((N15-1)*$N$11)/100 -> 0
G16: Betriebsgrößeneffekt | N16: 1 | O16: =((N16-1)*$N$11)/100 -> 0
B18: Auswertung
C24: Elastizität (k) | E24: =IF(AND(D7=I26,D10<>0,E10<>0,D11<>0,E11<>0),(LN(E11)-LN(E10))/(LN(D11)-LN(D10)),IF(D7=I26,I28,IF(AND(D7=I27,H9<>0),SUM(O12:O16)*-1,I28))) -> fehlende Daten
C25: Erfahrungsrate | E25: =IFERROR(IF(OR(D10="",E10="",D11="",E11=""),1-(1/2^(-E24)),1-(1/2^(-E24))),I28) -> fehlende Daten
I26: über Stückkosten
I27: mit Erfahrungseffekten
C28: Kritische Ausbrindungsmenge | E28: =IFERROR(ROUNDUP(EXP(LN(E10/E13)/(-E24)),0),IF(E24=0,"keine Elastizität",I28)) -> fehlende Daten | I28: fehlende Daten
I30: 1 | J30: =$E$10/I30^(-$E$24) -> #VALUE!
I31: =$E$14/6*1 -> 0 | J31: =$E$10/I31^(-$E$24) -> #VALUE!
I32: =$E$14/6*2 -> 0 | J32: =$E$10/I32^(-$E$24) -> #VALUE!
I33: =$E$14/6*3 -> 0 | J33: =$E$10/I33^(-$E$24) -> #VALUE!
I34: =$E$14/6*4 -> 0 | J34: =$E$10/I34^(-$E$24) -> #VALUE!
I35: =$E$14/6*5 -> 0 | J35: =$E$10/I35^(-$E$24) -> #VALUE!
I36: =$E$14/6*6 -> 0 | J36: =$E$10/I36^(-$E$24) -> #VALUE!
A41: =+Deckblatt!A50 -> Version 1.0

Sheet Abweichungsanalyse
B4: Kontrolle - Plan-Ist-Vergleich
B7: Geben Sie folgend die tatsächlich kalkulierten Stückkosten für die jeweilige Produktionsmenge ein.
C9: Stückkosten
B10: Stück | C10: Plankosten | D10: Istkosten | E10: Differenz
B11: 1 | C11: =IF(ISERROR(Rechner!$E$10/B11^(-Rechner!$E$24)),"-",Rechner!$E$10/B11^(-Rechner!$E$24)) -> - | D11: 0 | E11: =IF(C11="-","-",D11-C11) -> -
B12: =$B$21/10*1 -> 0 | C12: =IF(ISERROR(Rechner!$E$10/B12^(-Rechner!$E$24)),"-",Rechner!$E$10/B12^(-Rechner!$E$24)) -> - | D12: 0 | E12: =IF(C12="-","-",D12-C12) -> -
B13: =$B$21/10*2 -> 0 | C13: =IF(ISERROR(Rechner!$E$10/B13^(-Rechner!$E$24)),"-",Rechner!$E$10/B13^(-Rechner!$E$24)) -> - | D13: 0 | E13: =IF(C13="-","-",D13-C13) -> -
B14: =$B$21/10*3 -> 0 | C14: =IF(ISERROR(Rechner!$E$10/B14^(-Rechner!$E$24)),"-",Rechner!$E$10/B14^(-Rechner!$E$24)) -> - | D14: 0 | E14: =IF(C14="-","-",D14-C14) -> -
B15: =$B$21/10*4 -> 0 | C15: =IF(ISERROR(Rechner!$E$10/B15^(-Rechner!$E$24)),"-",Rechner!$E$10/B15^(-Rechner!$E$24)) -> - | D15: 0 | E15: =IF(C15="-","-",D15-C15) -> -
B16: =$B$21/10*5 -> 0 | C16: =IF(ISERROR(Rechner!$E$10/B16^(-Rechner!$E$24)),"-",Rechner!$E$10/B16^(-Rechner!$E$24)) -> - | D16: 0 | E16: =IF(C16="-","-",D16-C16) -> -
B17: =$B$21/10*6 -> 0 | C17: =IF(ISERROR(Rechner!$E$10/B17^(-Rechner!$E$24)),"-",Rechner!$E$10/B17^(-Rechner!$E$24)) -> - | D17: 0 | E17: =IF(C17="-","-",D17-C17) -> -
B18: =$B$21/10*7 -> 0 | C18: =IF(ISERROR(Rechner!$E$10/B18^(-Rechner!$E$24)),"-",Rechner!$E$10/B18^(-Rechner!$E$24)) -> - | D18: 0 | E18: =IF(C18="-","-",D18-C18) -> -
B19: =$B$21/10*8 -> 0 | C19: =IF(ISERROR(Rechner!$E$10/B19^(-Rechner!$E$24)),"-",Rechner!$E$10/B19^(-Rechner!$E$24)) -> - | D19: 0 | E19: =IF(C19="-","-",D19-C19) -> -
B20: =$B$21/10*9 -> 0 | C20: =IF(ISERROR(Rechner!$E$10/B20^(-Rechner!$E$24)),"-",Rechner!$E$10/B20^(-Rechner!$E$24)) -> - | D20: 0 | E20: =IF(C20="-","-",D20-C20) -> -
B21: =Rechner!$E$14 -> 0 | C21: =IF(ISERROR(Rechner!$E$10/B21^(-Rechner!$E$24)),"-",Rechner!$E$10/B21^(-Rechner!$E$24)) -> - | D21: 0 | E21: =IF(C21="-","-",D21-C21) -> -
B24: Abweichungsanalyse
B25: Dokumentieren Sie folgend die Gründe für die Abweichungen:
B28: Maßnahmen zur Optimierung
B29: Analysieren Sie Ihre Dokumentation, um das vorhandene Optimierungspotenzial und Maßnahmen zu identifizieren und dokumentieren Sie diese folgend (S. dazu auch Tabellenblatt Empfehlungen):
A34: =+Deckblatt!A50 -> Version 1.0

Sheet Empfehlungen
B4: Empfehlungen zur bestmöglichen Ausschöpfung der (theoretischen) Erfahrungsrate
B8: Effekt | C8: Auswirkung | D8: Maßnahmen | E8: Optimierungsmethode | F8: Praktische Tipps | G8: Ziele
B9: Betriebskostengrößeneffekt | C9: Materialkosten senken Komplexität reduzieren Skaleneffekte nutzen | D9: 1. Variantenreduktion 2. Einkaufsgemeinschaften 3. Lieferantenkonsolidierung 4. Rahmenverträge | E9: Make-Or-Buy-Entscheidung | F9: 1. Kosten kalkulieren a. Kosten bei Selbsterstellung b. Kosten beim Outsourcing 2. Entscheidung treffen | G9: Kosten optimieren Kernkompetenzen stärken
E10: Kooperationseffekt | F10: 1. Geeignete KMUs identifizieren 2. Kooperationsziele definieren 3. regelmäßiges Treffen organisieren | G10: Kostenreduktion Wissensaustausch Risikominimierung
B11: Fixkostendegression | C11: Bessere Kapazitätsauslastung Break-even senken Stückkosten reduzieren | D11: 1. Kapazitätsauslastung erhöhen 2. Kooperationen 3. Flexible Automatisierung | E11: Deckungsbeitragsrechnung | F11: 1. Deckungsbeitrag berechnen a. Umsatz pro Produkt ermitteln 2. Unrentable Produkte prüfen a. Produkt nach Deckungsbeitrag sortieren b. Ursachen für unrentable Produkte bestimmen(Hohe Kosten?; Niedriger Verkaufspreis?; Geringere Absatzmenge?) c. Entscheidung treffen(Weiterproduzieren, Einstellen oder Optimieren) 3. Auswirkungen überprüfen | G11: Profitabilität erhöhen Verlustgründe senken
B12: Lernkurveneffekt | C12: Schnellere Einarbeitung Fehlerreduktion Produktivitätssteigerung | D12: 1. Standardisierte Einarbeitungspläne 2. Mentoring 3. Jobrotation | E12: PDCA-Zyklus | F12: 1. Plan: a. Probleme identifizieren b. Ursachen analysieren c. Maßnahmen planen d. Ziele definieren 2. Do a. Testen, die Ergebnisse erfassen b. Unterstützung; Mentor haben c. Dokumentation über die Fehlerquote führen 3. Check a. Daten auswerten b. Probleme identifizieren c. Die Ergebnisse bewerten 4. Act a. Anpassung durchführen b. Ausweitung c. Weiterentwicklung | G12: Kontinuierliche Verbesserung Mitarbeitereinbindung
E13: Einfaches Kennzahlsystem | F13: 1. Fehlerquote = (Anzahl Fehler ÷ Gesamtanzahl Aufträge) × 100 2. Kosten pro Einheit = Gesamtkosten ÷ Stückzahl 3. Durchlaufzeit analysieren 4. Engpässe identifizieren | G13: Transparenz schaffen Kontinuierliche Verbesserung
E14: Benchmarking | F14: 1. Branchenkennzahlen recherchieren a. Branchenidentifikation b. Kennzahlen definieren(z.B. Kundenbindung, Kostenstruktur usw) c. Datenquellen nutzen 2. Abweichungen analysieren a. Vergleiche die Kennzahlen b. Abweichungen bewerte c. Maßnahmen ableiten d. Ziele bestimmen | G14: Fehler reduzieren Prozessverbesserung Umsatzsteigerung Reklamationsreduktion
E15: Kundenfeedback | F15: 1. Fragebogen erstellen 2. Feedback systematisch auswerten 3. Ursachenanalyse durchführen 4. Verbesserungen umsetzen 5. Erfolg kontrollieren | G15: Effizienzsteigerung Sicherheit erhöhen Qualitätssteigerung
B16: Rationalisierungseffekt | C16: Prozessstabilität Reduzierte Durchlaufzeit Kostensenkung | D16: 1. SOPs(Standardisiertes Arbeitsverfahren) 2. Prozessmapping 3. Checklisten | E16: 5S-Methode | F16: 1. Nicht benötigte Gegenstände entfernen 2. Arbeitsplätze strukturieren 3. Regelmäßige Reinigung einführen 4. Standards definieren 5. Einhaltung kontrollieren | G16: Transparenz Bestandsoptimierung
E17: ERP-Light Systeme | F17: 1. Bedarf analysieren a. Ziele definieren: Welche Prozesse sollen optimiert werden? (z. B. Lagerverwaltung, Rechnungsstellung, Bestellwesen) b. Benutzer identifizieren: Wer nutzt das System? c. Aktuelle benutzte Systeme bestimmen d. Kosten-Nutzen gegenüber stellen 2. System auswählen a. Marktrecherche b. Preis-Leistungsverhältnis überprüfen c. Integrationsmöglichkeiten überprüfen d. Referenzen und Bewertungen anschauen 3. Mitarbeiterinnen einschule a. Schulungsplan erstellen b. Material vorbereiten | G17: Wettbewerbsfähigkeit steigern
B18: Technischer Fortschritt | C18: Produktivitätssteigerung Qualitätsverbesserung Fehlerreduktion | D18: 1. Digitalisierung 2. Einfache Automatisierung 3. Materialoptimierung | E18: Benchmarking | F18: 1. Branchenkennzahlen recherchieren a. Branchenidentifikation b. Kennzahlen definieren(z.B. Kundenbindung, Kostenstruktur usw) c. Datenquellen nutzen 2. Abweichungen analysieren a. Vergleiche die Kennzahlen b. Abweichungen bewerte c. Maßnahmen ableiten d. Ziele bestimmen | G18: Wettbewerbsfähigkeit steigern
E19: ERP-Light Systeme | F19: 1. Bedarf analysieren a. Ziele definieren: Welche Prozesse sollen optimiert werden? (z. B. Lagerverwaltung, Rechnungsstellung, Bestellwesen) b. Benutzer identifizieren: Wer nutzt das System? c. Aktuelle benutzte Systeme bestimmen d. Kosten-Nutzen gegenüber stellen 2. System auswählen a. Marktrecherche b. Preis-Leistungsverhältnis überprüfen c. Integrationsmöglichkeiten überprüfen d. Referenzen und Bewertungen anschauen 3. Mitarbeiterinnen einschule a. Schulungsplan erstellen b. Material vorbereiten | G19: Fehler reduzieren Prozessverbesserung Umsatzsteigerung Reklamationsreduktion
B20: Quelle: in Anlehnung an Schawel, C., & Billing, F. (2018). Top 100 Management Tools (6. Aufl.). Springer Gabler.
A22: =+Deckblatt!A50 -> Version 1.0
